BEGIN:VCALENDAR
VERSION:2.0
PRODID:-//Welch-Bailey - ECPv4.4.5//NONSGML v1.0//EN
CALSCALE:GREGORIAN
METHOD:PUBLISH
X-WR-CALNAME:Welch-Bailey
X-ORIGINAL-URL:https://www.welchbailey.com
X-WR-CALDESC:Events for Welch-Bailey
BEGIN:VEVENT
DTSTART;TZID=UTC+0:20180718T150000
DTEND;TZID=UTC+0:20180722T233000
DTSTAMP:20260425T112933
CREATED:20170227T092409Z
LAST-MODIFIED:20170417T175953Z
UID:845-1531926000-1532302200@www.welchbailey.com
SUMMARY:2018 Welch-Bailey Reunion
DESCRIPTION:Twin World Travel is the reunion’s Travel Agency for the event. For booking call Twin World Travel at (323) 292-9768 or email them at twinworldtravel@yahoo.com\n\n \n\nTravel dates are flexible: Twin World Travel will customize your trip base on your preferred travel dates and airline. Click HERE to view the 6-Day schedule for the trip.\n\n \n\nChoose your stay: Stay at one of our two contracted hotels: Princess Hotel and Casino\, Radisson Fort George Hotel\, or choose your own.\n\nMonthly Payment Plan is available: Twin World Travel is accepting monthly payment starting April 20\, 2017 and to be continued until the deadline of May 20\,2018. Monthly payment amount will be based on your customized plan or package (see package below).We anticipate the airfare to be approximately $500.00 per person and hotel is approximately $500.00 per person as well. Banquet\, boat ride and meal will add around $300 more. The approximate total cost of the trip is $1\,299.00.\n\n \nPLATINUM PACKAGE - $99.00 per month.\nPlatinum Package includes round trip airfare\, hotel accommodations at one of the above mentioned hotel\, Banquet (meal included)\, and private charter boat (for our group to San Pedro Ambergris Key or Key Caulker or a Goff's  Key)\, round trip ground transportation from Belize City and paid entry into Altun Ha and Xunantunich Maya Ruins\, and round trip ground transportation from Belize City to Manatee Village or Placencia.\nGOLD PACKAGE - $59.00 per month.\nGold Package includes round trip airfare\, Banquet (meal included)\, private charter boat (for our group to San Pedro Ambergris Key or Key Caulker or Private Key)\, round trip ground transportation from Belize City and paid entry into Altun Ha or Xunantunich Maya Ruins\, and round trip ground transportation from Belize City to Manatee Village or Placencia.\n\n \nSILVER PACKAGE - $49.00 per month.\nSilver Package includes airfare only.\n\n \nBRONZE PACKAGE - $49.00 per month.\nBronze Package includes hotel only\nNOTE: Monthly Payment Plan is from March 20\, 2017 to April 20\, 2018\, or until you are paid in full. Whichever comes first.\nTERMS AND CONDITIONS\n\n \tInitial non-refundable deposit: $50 on or before April 20th\, 2017\n \tPayment Date: Payment must be made on or before the 20th\, of each month.\n \tFinal payment must be paid by May 20\, 2018\n \tCancellation and refund: Contact Twin World Travel for more information.\n \tTransfer of Account: If an individual wants to transfer their (deposit) account to a new guest (someone who has not made an initial deposit with Twin World Travel) they may do so up to twenty four hours (24hrs.) before final booking. There will be no fee for transfer\, unless your balance is being transferred to someone who already made an initial deposit. Only one transfer per account less the $50 initial deposit\n\n \t DISCLAIMER:  Once airline ticket is purchased\, they cannot be transfer to someone else. Furthermore\, airline ticket is non-refundable and all airline rules apply for changes requested.\n\n\n\n \tInsurance: Travel Insurance will be available for those who choose to purchase it at an additional cost. We strongly advised our guess to purchase Travel Insurance.\n\n \n\nBest Price: Twin World Travel is booking our flights at the lowest rate to secure our seats. When specials become available at a lower rate Twin World Travel will\, with our consent\, cancel the block and re-block our flight at the lower rate.  You may be entitled to a refund of the difference in price.\n\n
URL:https://www.welchbailey.com/event/2018-welch-bailey-reunion/
LOCATION:Rockstone Pond Village\, Belize
CATEGORIES:Reunions
ATTACH;FMTTYPE=image/jpeg:https://www.welchbailey.com/wp-content/uploads/2017/02/IMG_4849.jpg
ORGANIZER;CN="Twin%20World%20Travel":MAILTO:twinworldtravel@yahoo.com
END:VEVENT
END:VCALENDAR